BEGIN:VCALENDAR
VERSION:2.0
PRODID:-//Hubert Oręziak - ECPv6.15.11//NONSGML v1.0//EN
CALSCALE:GREGORIAN
METHOD:PUBLISH
X-WR-CALNAME:Hubert Oręziak
X-ORIGINAL-URL:https://hubertoreziak.pl
X-WR-CALDESC:Wydarzenia dla Hubert Oręziak
REFRESH-INTERVAL;VALUE=DURATION:PT1H
X-Robots-Tag:noindex
X-PUBLISHED-TTL:PT1H
BEGIN:VTIMEZONE
TZID:Europe/Warsaw
BEGIN:DAYLIGHT
TZOFFSETFROM:+0100
TZOFFSETTO:+0200
TZNAME:CEST
DTSTART:20240331T010000
END:DAYLIGHT
BEGIN:STANDARD
TZOFFSETFROM:+0200
TZOFFSETTO:+0100
TZNAME:CET
DTSTART:20241027T010000
END:STANDARD
BEGIN:DAYLIGHT
TZOFFSETFROM:+0100
TZOFFSETTO:+0200
TZNAME:CEST
DTSTART:20250330T010000
END:DAYLIGHT
BEGIN:STANDARD
TZOFFSETFROM:+0200
TZOFFSETTO:+0100
TZNAME:CET
DTSTART:20251026T010000
END:STANDARD
BEGIN:DAYLIGHT
TZOFFSETFROM:+0100
TZOFFSETTO:+0200
TZNAME:CEST
DTSTART:20260329T010000
END:DAYLIGHT
BEGIN:STANDARD
TZOFFSETFROM:+0200
TZOFFSETTO:+0100
TZNAME:CET
DTSTART:20261025T010000
END:STANDARD
END:VTIMEZONE
BEGIN:VEVENT
DTSTART;TZID=Europe/Warsaw:20251002T000000
DTEND;TZID=Europe/Warsaw:20251005T235959
DTSTAMP:20260423T112532
CREATED:20250824T211222Z
LAST-MODIFIED:20250914T210028Z
UID:2853-1759363200-1759708799@hubertoreziak.pl
SUMMARY:Diagnoza spektrum autyzmu osób dorosłych
DESCRIPTION:O warsztacie\n\n\n\n🧠 Diagnoza spektrum autyzmu osób dorosłych – to 4-dniowy warsztat praktyczny dla psychologów\, psychiatrów i innych specjalistów. \n\n\n\nCharakter warsztatowy – maksymalnie 12 uczestników \n\n\n\nSzkolenie w formie intensywnego warsztatu poświęcone diagnozie ASD osób dorosłych. \n\n\n\nSzkolenie\, które otworzy przed Tobą drzwi do lepszego rozumienia i wspierania dorosłych w spektrum autyzmu\,poczynając od pierwszego kroku – diagnozy. \n\n\n\nTo szkolenie jest dedykowane psychologom\, którzy pragną rozwijać swoje kompetencje w diagnozowaniu i wspieraniu dorosłych osób z podejrzeniem spektrum autyzmu. \n\n\n\nTo czterodniowe szkolenie odbywa się w dniach 2-5 października 2025\, w godzinach 10:00-18:00 \n\n\n\n\n\n\n\n💬 Forma szkolenia – platforma Discord:\n\n\n\nPlatforma Discord zapewnia: \n\n\n\n\nStały kontakt z prowadzącym – także po zakończeniu warsztatu\n\n\n\nMożliwość wymiany doświadczeń z innymi uczestnikami i uczestniczkami\n\n\n\nDostęp do zasobów edukacyjnych\n\n\n\nUdział z dowolnego miejsca i o dowolnej porze\n\n\n\n\n\n\n\n\n👥 Dla kogo jest to szkolenie?\n\n\n\n\nDla psychologów i psycholożek zajmujących się diagnozą osób dorosłych\n\n\n\nW drodze wyjątku: dla studentów i studentek 4. lub 5. roku psychologii\, którzy chcą zdobyć praktyczne przygotowanie do pracy z osobami dorosłymi\n\n\n\n\n\n\n\n\nProwadząca\n\n\n\n\ndr Anna Anzulewicz\n\n\n\npsycholog\, diagnostka\, badaczka i projektantka rozwiązań cyfrowych specjalizująca się w neuroróżnorodności. Na co dzień pracuje na Wydziale Psychologii Uniwersytetu Warszawskiego\, gdzie prowadzi badania dotyczące jakości życia dorosłych z diagnozą ADHD oraz w spektrum autyzmu. \n\n\n\nOd wielu lat zajmuje się diagnostyką neurorożnorodności i wspieraniem osób neuroatypowych. Szkoli specjalistów (psychologów\, psychiatrów\, nauczycieli) z zakresu diagnostyki ADHD i ASD\, jak również prowadzi konsultacje dla organizacji\, chcących budować inkluzywne środowisko pracy.\n\n\n\nPonadto posiada ponad 10-letnie doświadczenie w zarządzaniu zespołami w branży zdrowia cyfrowego\, gdzie opracowywała innowacyjne rozwiązania cyfrowe wspierające diagnostykę zaburzeń neurorozwojowych oraz dbanie o zdrowie psychiczne. W swojej pracy kieruje się wysokimi standardami\, opartymi na dowodach naukowych.
URL:https://hubertoreziak.pl/szkolenie/diagnozowanie-spektrum-autyzmu-osob-doroslych/
ATTACH;FMTTYPE=image/png:https://hubertoreziak.pl/wp-content/uploads/2025/08/2-5-pazdziernika-2025-1.png
END:VEVENT
END:VCALENDAR