BEGIN:VCALENDAR
VERSION:2.0
PRODID:-//Hubert Oręziak - ECPv6.15.11//NONSGML v1.0//EN
CALSCALE:GREGORIAN
METHOD:PUBLISH
X-WR-CALNAME:Hubert Oręziak
X-ORIGINAL-URL:https://hubertoreziak.pl
X-WR-CALDESC:Wydarzenia dla Hubert Oręziak
REFRESH-INTERVAL;VALUE=DURATION:PT1H
X-Robots-Tag:noindex
X-PUBLISHED-TTL:PT1H
BEGIN:VTIMEZONE
TZID:Europe/Warsaw
BEGIN:DAYLIGHT
TZOFFSETFROM:+0100
TZOFFSETTO:+0200
TZNAME:CEST
DTSTART:20240331T010000
END:DAYLIGHT
BEGIN:STANDARD
TZOFFSETFROM:+0200
TZOFFSETTO:+0100
TZNAME:CET
DTSTART:20241027T010000
END:STANDARD
BEGIN:DAYLIGHT
TZOFFSETFROM:+0100
TZOFFSETTO:+0200
TZNAME:CEST
DTSTART:20250330T010000
END:DAYLIGHT
BEGIN:STANDARD
TZOFFSETFROM:+0200
TZOFFSETTO:+0100
TZNAME:CET
DTSTART:20251026T010000
END:STANDARD
BEGIN:DAYLIGHT
TZOFFSETFROM:+0100
TZOFFSETTO:+0200
TZNAME:CEST
DTSTART:20260329T010000
END:DAYLIGHT
BEGIN:STANDARD
TZOFFSETFROM:+0200
TZOFFSETTO:+0100
TZNAME:CET
DTSTART:20261025T010000
END:STANDARD
END:VTIMEZONE
BEGIN:VEVENT
DTSTART;TZID=Europe/Warsaw:20251107T100000
DTEND;TZID=Europe/Warsaw:20251109T180000
DTSTAMP:20260423T094835
CREATED:20250807T221008Z
LAST-MODIFIED:20250824T221609Z
UID:2696-1762509600-1762711200@hubertoreziak.pl
SUMMARY:Podstawy Coachingu ADHD – warsztat dla specjalistów
DESCRIPTION:🧠 Podstawy Coachingu ADHD – warsztat dla specjalistów\n\n\n\nCharakter warsztatowy – maksymalnie 12 uczestników \n\n\n\n\n\n\n\n🕒 Kiedy?\n\n\n\n7-9 listopada oraza 19-21 grudnia 2025 \n\n\n\n8 godzin zegarowych (z przerwami; zarezerwuj sobie więcej czasu) \n\n\n\nSześciodniowe\, intensywne szkolenie łączące wprowadzenie do coachingu oraz specjalistyczny moduł poświęcony coachingowi ADHD. Zajęcia obejmują teorię\, praktyczne ćwiczenia oraz pracę własną pomiędzy spotkaniami. \n\n\n\n\n\n\n\n🔧 Co zyskasz w ramach szkolenia:\n\n\n\n\n3 dni wprowadzenia do coachingu – narzędzia\, proces\, etyka pracy\n\n\n\n3 dni wprowadzenia do coachingu ADHD – specyfika pracy z klientem neuroróżnorodnym\n\n\n\nĆwiczenia warsztatowe + zadania do wykonania między zjazdami\n\n\n\nDostęp do autorskich materiałów i zasobów trenera\n\n\n\nMożliwość dyskusji i superwizji w trakcie całego procesu\n\n\n\n\n\n\n\n\n💬 Forma szkolenia – platforma Discord:\n\n\n\n\nSzkolenie odbywa się online na platformie Discord\n\n\n\nKameralna atmosfera sprzyjająca nauce i wymianie doświadczeń\n\n\n\nMożliwość udziału z dowolnego miejsca\n\n\n\nStały kontakt z osobą prowadzącą – również poza czasem zajęć\n\n\n\n\n\n\n\n\n🎯 Cele szkolenia:\n\n\n\n\nZrozumienie podstaw coachingu i specyfiki pracy coachingowej z dorosłymi osobami neuroróżnorodnymi\n\n\n\nPoznanie narzędzi i technik stosowanych w coachingu ADHD\n\n\n\nRozwinięcie umiejętności formułowania celów i kontraktowania procesu\n\n\n\nNauka prowadzenia sesji coachingowych dostosowanych do profilu klienta z ADHD\n\n\n\nIntegracja elementów coachingu z praktyką psychologiczną lub psychiatryczną\n\n\n\n\n\n\n\n\n👥 Dla kogo jest to szkolenie?\n\n\n\nDla specjalistów zajmujących się diagnozą osób dorosłych – w szczególności psychologów\, psychiatrów\, terapeutów i innych osób pracujących z osobami neuroróżnorodnymi\, które chcą rozwinąć swój warsztat w obszarze diagnozy rozwojowej i neuroatypowości. \n\n\n\nProwadzący\n\n\n\n\n psycholog i socjolog\, naukowiec i nauczyciel akademicki\, trener i hipnoterapeuta;\n\n\n\nspecjalizuje się w diagnozie psychologicznej ADHD i w pracy indywidualnej z osobami neuroróżnorodnymi;\n\n\n\ntworzy środowisko integrujące osoby neuroatypowe\, prowadzi grupy wsparcia dla osób z ADHD;\n\n\n\nAuDHDowiec.
URL:https://hubertoreziak.pl/szkolenie/podstawy-coachingu-adhd-warsztat-dla-specjalistow/
ORGANIZER;CN="Hubert Or%C4%99ziak":MAILTO:hubertoreziak.szkolenia@gmail.com
END:VEVENT
BEGIN:VEVENT
DTSTART;TZID=Europe/Warsaw:20251108T000000
DTEND;TZID=Europe/Warsaw:20251109T235959
DTSTAMP:20260423T094835
CREATED:20250914T203153Z
LAST-MODIFIED:20250914T203156Z
UID:3628-1762560000-1762732799@hubertoreziak.pl
SUMMARY:Diagnoza spektrum autyzmu osób dorosłych
DESCRIPTION:8-9 listopada + 29-30 listopada \n\n\n\nO warsztacie\n\n\n\n🧠 Diagnoza spektrum autyzmu osób dorosłych – to 4-dniowy warsztat praktyczny dla psychologów\, psychiatrów i innych specjalistów. \n\n\n\nCharakter warsztatowy – maksymalnie 12 uczestników \n\n\n\nSzkolenie w formie intensywnego warsztatu poświęcone diagnozie ASD osób dorosłych. \n\n\n\nSzkolenie\, które otworzy przed Tobą drzwi do lepszego rozumienia i wspierania dorosłych w spektrum autyzmu\,poczynając od pierwszego kroku – diagnozy. \n\n\n\nDedykowane psychologom\, którzy pragną rozwijać swoje kompetencje w diagnozowaniu i wspieraniu dorosłych osób z podejrzeniem spektrum autyzmu. \n\n\n\nTo czterodniowe szkolenie odbywa się w dniach 8-9 listopada + 29-30 listopada\, w godzinach 10:00-18:00 \n\n\n\n\n\n\n\n💬 Forma szkolenia – platforma Discord:\n\n\n\nPlatforma Discord zapewnia: \n\n\n\n\nStały kontakt z prowadzącym – także po zakończeniu warsztatu\n\n\n\nMożliwość wymiany doświadczeń z innymi uczestnikami i uczestniczkami\n\n\n\nDostęp do zasobów edukacyjnych\n\n\n\nUdział z dowolnego miejsca i o dowolnej porze\n\n\n\n\n\n\n\n\n👥 Dla kogo jest to szkolenie?\n\n\n\n\nDla psychologów i psycholożek zajmujących się diagnozą osób dorosłych\n\n\n\nW drodze wyjątku: dla studentów i studentek 4. lub 5. roku psychologii\, którzy chcą zdobyć praktyczne przygotowanie do pracy z osobami dorosłymi\n\n\n\n\n\n\n\n\nProwadząca\n\n\n\n\ndr Anna Anzulewicz\n\n\n\npsycholog\, diagnostka\, badaczka i projektantka rozwiązań cyfrowych specjalizująca się w neuroróżnorodności. Na co dzień pracuje na Wydziale Psychologii Uniwersytetu Warszawskiego\, gdzie prowadzi badania dotyczące jakości życia dorosłych z diagnozą ADHD oraz w spektrum autyzmu. \n\n\n\nOd wielu lat zajmuje się diagnostyką neurorożnorodności i wspieraniem osób neuroatypowych. Szkoli specjalistów (psychologów\, psychiatrów\, nauczycieli) z zakresu diagnostyki ADHD i ASD\, jak również prowadzi konsultacje dla organizacji\, chcących budować inkluzywne środowisko pracy.\n\n\n\nPonadto posiada ponad 10-letnie doświadczenie w zarządzaniu zespołami w branży zdrowia cyfrowego\, gdzie opracowywała innowacyjne rozwiązania cyfrowe wspierające diagnostykę zaburzeń neurorozwojowych oraz dbanie o zdrowie psychiczne. W swojej pracy kieruje się wysokimi standardami\, opartymi na dowodach naukowych.
URL:https://hubertoreziak.pl/szkolenie/diagnoza-spektrum-autyzmu-osob-doroslych/
ATTACH;FMTTYPE=image/png:https://hubertoreziak.pl/wp-content/uploads/2025/09/8-9-29-30-listopada-2025.png
END:VEVENT
END:VCALENDAR