BEGIN:VCALENDAR
VERSION:2.0
PRODID:-//Hubert Oręziak - ECPv6.15.11//NONSGML v1.0//EN
CALSCALE:GREGORIAN
METHOD:PUBLISH
X-WR-CALNAME:Hubert Oręziak
X-ORIGINAL-URL:https://hubertoreziak.pl
X-WR-CALDESC:Wydarzenia dla Hubert Oręziak
REFRESH-INTERVAL;VALUE=DURATION:PT1H
X-Robots-Tag:noindex
X-PUBLISHED-TTL:PT1H
BEGIN:VTIMEZONE
TZID:Europe/Warsaw
BEGIN:DAYLIGHT
TZOFFSETFROM:+0100
TZOFFSETTO:+0200
TZNAME:CEST
DTSTART:20250330T010000
END:DAYLIGHT
BEGIN:STANDARD
TZOFFSETFROM:+0200
TZOFFSETTO:+0100
TZNAME:CET
DTSTART:20251026T010000
END:STANDARD
BEGIN:DAYLIGHT
TZOFFSETFROM:+0100
TZOFFSETTO:+0200
TZNAME:CEST
DTSTART:20260329T010000
END:DAYLIGHT
BEGIN:STANDARD
TZOFFSETFROM:+0200
TZOFFSETTO:+0100
TZNAME:CET
DTSTART:20261025T010000
END:STANDARD
BEGIN:DAYLIGHT
TZOFFSETFROM:+0100
TZOFFSETTO:+0200
TZNAME:CEST
DTSTART:20270328T010000
END:DAYLIGHT
BEGIN:STANDARD
TZOFFSETFROM:+0200
TZOFFSETTO:+0100
TZNAME:CET
DTSTART:20271031T010000
END:STANDARD
END:VTIMEZONE
BEGIN:VEVENT
DTSTART;TZID=Europe/Warsaw:20260112T100000
DTEND;TZID=Europe/Warsaw:20260118T180000
DTSTAMP:20260423T063452
CREATED:20250721T003155Z
LAST-MODIFIED:20250916T194414Z
UID:2161-1768212000-1768759200@hubertoreziak.pl
SUMMARY:Trening Trenerski: 7-dniowy warsztat
DESCRIPTION:🧠 Trening Trenerski – warsztat stacjonarny dla studentów i psychologów\n\n\n\nCharakter warsztatowy – maksymalnie 12 uczestników \n\n\n\nTo 7-dniowy warsztat stacjonarny w Krakowie\, skierowany do studentek i studentów psychologii oraz psychologów i psycholożek\, którzy chcą rozpocząć lub doskonalić swoją drogę jako trenerzy i trenerki.To pierwszy z czterech poziomów przygotowania do samodzielnego prowadzenia szkoleń – z naciskiem na etykę\, kontakt z grupą i świadome budowanie swojej roli jako osoby prowadzącej. \n\n\n\n\n\n\n\n\n🔧 Co zyskasz w ramach warsztatu:\n\n\n\n\nDużo praktyki – większość czasu poświęcimy na ćwiczenia\, scenki\, dyskusje\n\n\n\nABC prowadzenia szkoleń – przejdziesz przez każdy etap pracy z grupą\n\n\n\nUmiejętność nawiązywania kontaktu i motywowania uczestników\n\n\n\nPoznasz struktury takie jak: 4MAT prezentacyjny\, cykl Kolba\, model GORW\n\n\n\nNauczysz się zarządzać swoją postawą\, głosem i mową ciała\n\n\n\nOtrzymasz profesjonalny skrypt z materiałami\n\n\n\nZyskasz dostęp do zamkniętego kanału na Discordzie z dodatkowymi materiałami i możliwością kontaktu po szkoleniu\n\n\n\nMożliwość asystowania przy darmowych warsztatach dla osób z ADHD – tylko dla uczestników i uczestniczek tego poziomu\n\n\n\n\n\n\n\n\n🧩 W programie warsztatu:\n\n\n\n\nABC prowadzenia szkolenia i jego etapów\n\n\n\nNawiązywanie kontaktu z grupą i osobami uczestniczącymi\n\n\n\nMotywowanie i angażowanie uczestników\n\n\n\nPraca z grupą i jednostką – zarządzanie dynamiką\n\n\n\nPodstawowe modele prowadzenia szkoleń (cykl Kolba\, 4MAT prezentacyjny)\n\n\n\nPostawa osoby prowadzącej – głos\, ciało\, gestykulacja\n\n\n\nPodstawy przemówień publicznych\n\n\n\nModel GORW w planowaniu szkoleń\n\n\n\nPraca nad własnym\, adaptacyjnym stanem trenerskim\n\n\n\nI wiele innych elementów niezbędnych do prowadzenia szkoleń z klasą i etyką\n\n\n\n\n\n\n\n\n💬 Forma szkolenia:\n\n\n\n\nStacjonarnie w Krakowie\n\n\n\nKameralna grupa (do 12 osób)\n\n\n\nDodatkowe wsparcie i kontakt po szkoleniu na zamkniętym Discordzie\n\n\n\n\n\n\n\n\n👥 Dla kogo jest ten warsztat?\n\n\n\n\nDla osób\, które chcą uczyć etycznie\, profesjonalnie i praktycznie\n\n\n\n\n\nDla studentek i studentów psychologii\n\n\n\n\n\nDla psychologów i psycholożek\, którzy chcą prowadzić własne szkolenia\n\n\n\n\n\n\n\n\n💰 Cena\n\n\n\n🚀 6 300 zł – cena regularna \n\n\n\n🕊️ 4 900 zł – cena earlybird (przy zapisie i opłaceniu do końca grudnia 2025) \n\n\n\n📚 4 500 zł – zniżka dla uczestników innych szkoleń
URL:https://hubertoreziak.pl/szkolenie/trening-trenerski-dla-studentow-i-absolwentow-psychologii-1-poziom/
LOCATION:Kraków\, Kraków\, Poland
ORGANIZER;CN="Hubert Or%C4%99ziak":MAILTO:hubertoreziak.szkolenia@gmail.com
END:VEVENT
END:VCALENDAR