BEGIN:VCALENDAR
VERSION:2.0
PRODID:-//Hubert Oręziak - ECPv6.15.11//NONSGML v1.0//EN
CALSCALE:GREGORIAN
METHOD:PUBLISH
X-WR-CALNAME:Hubert Oręziak
X-ORIGINAL-URL:https://hubertoreziak.pl
X-WR-CALDESC:Wydarzenia dla Hubert Oręziak
REFRESH-INTERVAL;VALUE=DURATION:PT1H
X-Robots-Tag:noindex
X-PUBLISHED-TTL:PT1H
BEGIN:VTIMEZONE
TZID:Europe/Warsaw
BEGIN:DAYLIGHT
TZOFFSETFROM:+0100
TZOFFSETTO:+0200
TZNAME:CEST
DTSTART:20250330T010000
END:DAYLIGHT
BEGIN:STANDARD
TZOFFSETFROM:+0200
TZOFFSETTO:+0100
TZNAME:CET
DTSTART:20251026T010000
END:STANDARD
BEGIN:DAYLIGHT
TZOFFSETFROM:+0100
TZOFFSETTO:+0200
TZNAME:CEST
DTSTART:20260329T010000
END:DAYLIGHT
BEGIN:STANDARD
TZOFFSETFROM:+0200
TZOFFSETTO:+0100
TZNAME:CET
DTSTART:20261025T010000
END:STANDARD
BEGIN:DAYLIGHT
TZOFFSETFROM:+0100
TZOFFSETTO:+0200
TZNAME:CEST
DTSTART:20270328T010000
END:DAYLIGHT
BEGIN:STANDARD
TZOFFSETFROM:+0200
TZOFFSETTO:+0100
TZNAME:CET
DTSTART:20271031T010000
END:STANDARD
END:VTIMEZONE
BEGIN:VEVENT
DTSTART;TZID=Europe/Warsaw:20260122T100000
DTEND;TZID=Europe/Warsaw:20260125T180000
DTSTAMP:20260423T063655
CREATED:20250720T230816Z
LAST-MODIFIED:20250911T155808Z
UID:2139-1769076000-1769364000@hubertoreziak.pl
SUMMARY:AuDHD – intensywny warsztat dla specjalistów
DESCRIPTION:🧠 Diagnoza i wsparcie dorosłych osób z AuDHD – intensywny warsztat online\n\n\n\nCharakter warsztatowy – maksymalnie 12 uczestników \n\n\n\n4 dni intensywnej\, praktycznej pracy (32 godziny dydaktyczne) z dwojgiem prowadzących – specjaliści z doświadczeniem naukowym i klinicznym.Warsztat pomoże Ci lepiej rozumieć\, wspierać i diagnozować dorosłe osoby neuroróżnorodne z profilem AuDHD. \n\n\n\n\n\n\n\n🔧 Co otrzymasz w ramach szkolenia:\n\n\n\n\n🔹 Wiedzę opartą na aktualnych badaniach i praktyce klinicznej\n\n\n\n🔹 Pracę na przykładach i realnych przypadkach\n\n\n\n🔹 Interaktywną formę – możliwość zadawania pytań i wymiany doświadczeń\n\n\n\n🔹 Kameralną atmosferę sprzyjającą nauce\n\n\n\n🔹 Intensywne tempo – zmęczenie gwarantowane 🙂\n\n\n\n\n\n\n\n\n💬 Forma szkolenia – platforma Discord:\n\n\n\n\n🔹 Stały kontakt z prowadzącymi\n\n\n\n🔹 Wymiana doświadczeń z innymi uczestnikami\n\n\n\n🔹 Elastyczność – możesz brać udział z dowolnego miejsca\n\n\n\n\n\n\n\n\n👥 Dla kogo jest ten warsztat?\n\n\n\nW szczególności: dla psychologów\, psychiatrów\, terapeutów\, pedagogów \n\n\n\nDla specjalistów i specjalistek zajmujących się diagnozą lub wsparciem osób dorosłych z AuDHD \n\n\n\n\n\n\n\nProwadzący\n\n\n\ndr Anna Anzulewicz \n\n\n\n\n🔹 psycholożka\, diagnostka\, badaczka i projektantka rozwiązań cyfrowych specjalizująca się w neuroróżnorodności. Na co dzień pracuje na Wydziale Psychologii Uniwersytetu Warszawskiego\, gdzie prowadzi badania dotyczące jakości życia dorosłych z diagnozą ADHD oraz w spektrum autyzmu. \n\n\n\n🔹 Od wielu lat zajmuje się diagnostyką neurorożnorodności i wspieraniem osób neuroatypowych. Szkoli specjalistów (psychologów\, psychiatrów\, nauczycieli) z zakresu diagnostyki ADHD i ASD\, jak również prowadzi konsultacje dla organizacji\, chcących budować inkluzywne środowisko pracy.\n\n\n\n🔹 Ponadto posiada ponad 10-letnie doświadczenie w zarządzaniu zespołami w branży zdrowia cyfrowego\, gdzie opracowywała innowacyjne rozwiązania cyfrowe wspierające diagnostykę zaburzeń neurorozwojowych oraz dbanie o zdrowie psychiczne. W swojej pracy kieruje się wysokimi standardami\, opartymi na dowodach naukowych.\n\n\n\n\nmgr Hubert Oręziak \n\n\n\n\n 🔹 psycholog i socjolog\, naukowiec i nauczyciel akademicki\, trener i hipnoterapeuta;\n\n\n\n🔹 specjalizuje się w diagnozie psychologicznej ADHD i w pracy indywidualnej z osobami neuroróżnorodnymi;\n\n\n\n🔹 tworzy środowisko integrujące osoby neuroatypowe\, prowadzi grupy wsparcia dla osób z ADHD;\n\n\n\n🔹 AuDHDowiec.
URL:https://hubertoreziak.pl/szkolenie/audhd-intensywny-warsztat-dla-specjalistow/
ORGANIZER;CN="Hubert Or%C4%99ziak":MAILTO:hubertoreziak.szkolenia@gmail.com
END:VEVENT
BEGIN:VEVENT
DTSTART;TZID=Europe/Warsaw:20260122T100000
DTEND;TZID=Europe/Warsaw:20260125T180000
DTSTAMP:20260423T063655
CREATED:20251126T190724Z
LAST-MODIFIED:20251126T190724Z
UID:3809-1769076000-1769364000@hubertoreziak.pl
SUMMARY:Diagnoza ADHD osób dorosłych – warsztat dla specjalistów
DESCRIPTION:O warsztacie\n\n\n\n🧠 Diagnoza ADHD u osób dorosłych – warsztat praktyczny dla psychologów\, psychiatrów i innych specjalistów  \n\n\n\nCharakter warsztatowy – maksymalnie 12 uczestników \n\n\n\nSzkolenie w formie intensywnego warsztatu poświęcone diagnozie ADHD u osób dorosłych.Podczas spotkania omówiony zostanie kompletny proces diagnozy psychologicznej – od momentu zgłoszenia się osoby klienckiej\, przez kolejne etapy diagnostyczne (wywiad\, testy\, analiza)\, aż po pisanie opinii psychologicznej i omówienie jej z osobą diagnozowaną. \n\n\n\n\n\n\n\n🔧 Co otrzymasz w ramach szkolenia:\n\n\n\n\nScenariusz wywiadu diagnostycznego\n\n\n\nWzór opinii psychologicznej\n\n\n\nGotowe dokumenty diagnostyczne\n\n\n\nDostęp do innych praktycznych narzędzi pracy diagnosty ADHD\n\n\n\n\n\n\n\n\n🧩 Wymagania przed szkoleniem:\n\n\n\nKażda osoba uczestnicząca powinna mieć: \n\n\n\n\nScenariusz wywiadu DIVA-5\n\n\n\nDostęp do kryteriów diagnostycznych ADHD wg DSM-5\n\n\n\n\n\n\n\n\n💬 Forma szkolenia – platforma Discord:\n\n\n\nPlatforma Discord zapewnia: \n\n\n\n\nStały kontakt z prowadzącym – także po zakończeniu warsztatu\n\n\n\nMożliwość wymiany doświadczeń z innymi uczestnikami i uczestniczkami\n\n\n\nDostęp do zasobów edukacyjnych\n\n\n\nUdział z dowolnego miejsca i o dowolnej porze\n\n\n\n\n\n\n\n\n👥 Dla kogo jest to szkolenie?\n\n\n\n\nDla psychologów i psycholożek zajmujących się diagnozą osób dorosłych\n\n\n\nW drodze wyjątku: dla studentów i studentek 4. lub 5. roku psychologii\, którzy chcą zdobyć praktyczne przygotowanie do pracy z osobami dorosłymi\n\n\n\n\n\n\n\n\n🎓 Dodatkowe korzyści:\n\n\n\nUczestnicy i uczestniczki otrzymają zaproszenie do zamkniętych grup superwizyjnych z zakresu diagnozy ADHD u osób dorosłych – przestrzeni wspólnej pracy i dalszego rozwoju. \n\n\n\nProwadzący\n\n\n\nmgr Hubert Oręziak \n\n\n\n\n psycholog i socjolog\, naukowiec i nauczyciel akademicki\, trener i hipnoterapeuta;\n\n\n\nspecjalizuje się w diagnozie psychologicznej ADHD i w pracy indywidualnej z osobami neuroróżnorodnymi;\n\n\n\ntworzy środowisko integrujące osoby neuroatypowe\, prowadzi grupy wsparcia dla osób z ADHD;\n\n\n\nAuDHDowiec.
URL:https://hubertoreziak.pl/szkolenie/diagnoza-adhd-osob-doroslych-warsztat-dla-specjalistow-4/
ATTACH;FMTTYPE=image/png:https://hubertoreziak.pl/wp-content/uploads/2025/08/25-28-wrzesnia-2025.png
ORGANIZER;CN="Hubert Or%C4%99ziak":MAILTO:hubertoreziak.szkolenia@gmail.com
END:VEVENT
END:VCALENDAR