BEGIN:VCALENDAR
VERSION:2.0
PRODID:-//Hubert Oręziak - ECPv6.15.11//NONSGML v1.0//EN
CALSCALE:GREGORIAN
METHOD:PUBLISH
X-ORIGINAL-URL:https://hubertoreziak.pl
X-WR-CALDESC:Wydarzenia dla Hubert Oręziak
REFRESH-INTERVAL;VALUE=DURATION:PT1H
X-Robots-Tag:noindex
X-PUBLISHED-TTL:PT1H
BEGIN:VTIMEZONE
TZID:Europe/Warsaw
BEGIN:DAYLIGHT
TZOFFSETFROM:+0100
TZOFFSETTO:+0200
TZNAME:CEST
DTSTART:20250330T010000
END:DAYLIGHT
BEGIN:STANDARD
TZOFFSETFROM:+0200
TZOFFSETTO:+0100
TZNAME:CET
DTSTART:20251026T010000
END:STANDARD
BEGIN:DAYLIGHT
TZOFFSETFROM:+0100
TZOFFSETTO:+0200
TZNAME:CEST
DTSTART:20260329T010000
END:DAYLIGHT
BEGIN:STANDARD
TZOFFSETFROM:+0200
TZOFFSETTO:+0100
TZNAME:CET
DTSTART:20261025T010000
END:STANDARD
BEGIN:DAYLIGHT
TZOFFSETFROM:+0100
TZOFFSETTO:+0200
TZNAME:CEST
DTSTART:20270328T010000
END:DAYLIGHT
BEGIN:STANDARD
TZOFFSETFROM:+0200
TZOFFSETTO:+0100
TZNAME:CET
DTSTART:20271031T010000
END:STANDARD
END:VTIMEZONE
BEGIN:VEVENT
DTSTART;TZID=Europe/Warsaw:20260131T100000
DTEND;TZID=Europe/Warsaw:20260201T180000
DTSTAMP:20260423T114945
CREATED:20251126T191832Z
LAST-MODIFIED:20251126T191836Z
UID:3813-1769853600-1769968800@hubertoreziak.pl
SUMMARY:Diagnoza ADHD u dorosłych - wywiady z bliskimi
DESCRIPTION:🧠 O warsztacie\n\n\n\n👁‍🗨 𝐍𝐚 𝐓𝐰𝐨𝐢𝐜𝐡 𝐨𝐜𝐳𝐚𝐜𝐡 – 𝐩𝐫𝐚𝐰𝐝𝐳𝐢𝐰𝐚 𝐝𝐢𝐚𝐠𝐧𝐨𝐳𝐚 𝐀𝐃𝐇𝐃!Podczas szkolenia:✅ 𝐎𝐛𝐬𝐞𝐫𝐰𝐮𝐣𝐞𝐬𝐳 𝐩𝐞ł𝐧𝐲 𝐩𝐫𝐨𝐜𝐞𝐬 𝐝𝐢𝐚𝐠𝐧𝐨𝐳𝐲 𝐀𝐃𝐇𝐃 u dorosłej osoby – od testów przesiewowych\, przez wywiad\, aż po omówienie wyników.✅ 𝐏𝐨 𝐤𝐚𝐳̇𝐝𝐲𝐜𝐡 𝟒𝟓–𝟔𝟎 𝐦𝐢𝐧𝐮𝐭𝐚𝐜𝐡 𝐝𝐢𝐚𝐠𝐧𝐨𝐳𝐲 – przerwa na wspólne omówienie i analizę (też ok. 45–60 min).✅ 𝐌𝐧𝐨́𝐬𝐭𝐰𝐨 𝐩𝐫𝐳𝐞𝐬𝐭𝐫𝐳𝐞𝐧𝐢 𝐧𝐚 𝐩𝐲𝐭𝐚𝐧𝐢𝐚 𝐢 𝐝𝐲𝐬𝐤𝐮𝐬𝐣𝐞̨ – stawiamy na interakcję i refleksję.​🔎 To nie sucha teoria – to intensywny warsztat oparty na prawdziwym przypadku.​🧠 𝐔𝐰𝐚𝐠𝐚: 𝐰𝐚𝐫𝐬𝐳𝐭𝐚𝐭 𝐣𝐞𝐬𝐭 𝐰𝐲𝐦𝐚𝐠𝐚𝐣𝐚̨𝐜𝐲 𝐢 𝐦𝐞̨𝐜𝐳𝐚̨𝐜𝐲 – 𝐩𝐫𝐳𝐲𝐠𝐨𝐭𝐮𝐣 𝐬𝐢𝐞̨ 𝐧𝐚 𝐝𝐮𝐳̇𝐨 𝐰𝐢𝐞𝐝𝐳𝐲 𝐢 𝐝𝐮𝐳̇𝐨 𝐞𝐦𝐨𝐜𝐣𝐢! \n\n\n\n📢 Miejsca szybko się kończą – liczba uczestników 𝐬́𝐜𝐢𝐬́𝐥𝐞 𝐨𝐠𝐫𝐚𝐧𝐢𝐜𝐳𝐨𝐧𝐚!Dołącz\, jeśli chcesz uczyć się diagnozy ADHD 𝐰 𝐩𝐫𝐚𝐤𝐭𝐲𝐜𝐞\, 𝐧𝐢𝐞 𝐳 𝐤𝐬𝐢𝐚̨𝐳̇𝐤𝐢. \n\n\n\n\n\n\n\n💬 Forma szkolenia — Discord\n\n\n\n\nDedykowany kanał na Discordzie z materiałami i komunikacją.\n\n\n\nStały kontakt z prowadzącym – także po zakończeniu warsztatu.\n\n\n\nWymiana doświadczeń z innymi uczestnikami.\n\n\n\nDostęp do materiałów edukacyjnych.\n\n\n\nUdział z dowolnego miejsca.\n\n\n\n\n\n\n\n\n👥 Dla kogo?\n\n\n\n\npsychologowie i psycholożki prowadzący diagnozę osób dorosłych\,\n\n\n\npsychiatrzy i specjaliści pracujący klinicznie\,\n\n\n\nw drodze wyjątku: studenci i studentki 4.–5. roku psychologii\, którzy chcą zdobyć praktyczne przygotowanie.\n\n\n\n\n\n\n\n\n👨‍🏫 Prowadzący\n\n\n\nmgr Hubert Oręziak★ psycholog i socjolog\, naukowiec i nauczyciel akademicki\, trener i hipnoterapeuta\,★ specjalizuje się w diagnozie psychologicznej ADHD i w pracy indywidualnej z osobami neuroróżnorodnymi\,★ tworzy środowisko integrujące osoby neuroatypowe\, prowadzi grupy wsparcia dla osób z ADHD\,★ AuDHDowiec – zna temat od środka! \n\n\n\n\n\n\n\n💸 Cena szkolenia\n\n\n\n🎉 2 400 zł – cena regularna🎉 2 200 zł – zniżka dla absolwentów innych naszych szkoleń
URL:https://hubertoreziak.pl/szkolenie/diagnoza-adhd-u-doroslych-wywiady-z-bliskimi-2/
END:VEVENT
BEGIN:VEVENT
DTSTART;TZID=Europe/Warsaw:20260226T100000
DTEND;TZID=Europe/Warsaw:20260301T180000
DTSTAMP:20260423T114945
CREATED:20251126T190829Z
LAST-MODIFIED:20251126T190829Z
UID:3811-1772100000-1772388000@hubertoreziak.pl
SUMMARY:Diagnoza ADHD osób dorosłych – warsztat dla specjalistów
DESCRIPTION:O warsztacie\n\n\n\n🧠 Diagnoza ADHD u osób dorosłych – warsztat praktyczny dla psychologów\, psychiatrów i innych specjalistów  \n\n\n\nCharakter warsztatowy – maksymalnie 12 uczestników \n\n\n\nSzkolenie w formie intensywnego warsztatu poświęcone diagnozie ADHD u osób dorosłych.Podczas spotkania omówiony zostanie kompletny proces diagnozy psychologicznej – od momentu zgłoszenia się osoby klienckiej\, przez kolejne etapy diagnostyczne (wywiad\, testy\, analiza)\, aż po pisanie opinii psychologicznej i omówienie jej z osobą diagnozowaną. \n\n\n\n\n\n\n\n🔧 Co otrzymasz w ramach szkolenia:\n\n\n\n\nScenariusz wywiadu diagnostycznego\n\n\n\nWzór opinii psychologicznej\n\n\n\nGotowe dokumenty diagnostyczne\n\n\n\nDostęp do innych praktycznych narzędzi pracy diagnosty ADHD\n\n\n\n\n\n\n\n\n🧩 Wymagania przed szkoleniem:\n\n\n\nKażda osoba uczestnicząca powinna mieć: \n\n\n\n\nScenariusz wywiadu DIVA-5\n\n\n\nDostęp do kryteriów diagnostycznych ADHD wg DSM-5\n\n\n\n\n\n\n\n\n💬 Forma szkolenia – platforma Discord:\n\n\n\nPlatforma Discord zapewnia: \n\n\n\n\nStały kontakt z prowadzącym – także po zakończeniu warsztatu\n\n\n\nMożliwość wymiany doświadczeń z innymi uczestnikami i uczestniczkami\n\n\n\nDostęp do zasobów edukacyjnych\n\n\n\nUdział z dowolnego miejsca i o dowolnej porze\n\n\n\n\n\n\n\n\n👥 Dla kogo jest to szkolenie?\n\n\n\n\nDla psychologów i psycholożek zajmujących się diagnozą osób dorosłych\n\n\n\nW drodze wyjątku: dla studentów i studentek 4. lub 5. roku psychologii\, którzy chcą zdobyć praktyczne przygotowanie do pracy z osobami dorosłymi\n\n\n\n\n\n\n\n\n🎓 Dodatkowe korzyści:\n\n\n\nUczestnicy i uczestniczki otrzymają zaproszenie do zamkniętych grup superwizyjnych z zakresu diagnozy ADHD u osób dorosłych – przestrzeni wspólnej pracy i dalszego rozwoju. \n\n\n\nProwadzący\n\n\n\nmgr Hubert Oręziak \n\n\n\n\n psycholog i socjolog\, naukowiec i nauczyciel akademicki\, trener i hipnoterapeuta;\n\n\n\nspecjalizuje się w diagnozie psychologicznej ADHD i w pracy indywidualnej z osobami neuroróżnorodnymi;\n\n\n\ntworzy środowisko integrujące osoby neuroatypowe\, prowadzi grupy wsparcia dla osób z ADHD;\n\n\n\nAuDHDowiec.
URL:https://hubertoreziak.pl/szkolenie/diagnoza-adhd-osob-doroslych-warsztat-dla-specjalistow-5/
ATTACH;FMTTYPE=image/png:https://hubertoreziak.pl/wp-content/uploads/2025/08/25-28-wrzesnia-2025.png
ORGANIZER;CN="Hubert Or%C4%99ziak":MAILTO:hubertoreziak.szkolenia@gmail.com
END:VEVENT
END:VCALENDAR