BEGIN:VCALENDAR
VERSION:2.0
PRODID:-//Hubert Oręziak - ECPv6.15.11//NONSGML v1.0//EN
CALSCALE:GREGORIAN
METHOD:PUBLISH
X-ORIGINAL-URL:https://hubertoreziak.pl
X-WR-CALDESC:Wydarzenia dla Hubert Oręziak
REFRESH-INTERVAL;VALUE=DURATION:PT1H
X-Robots-Tag:noindex
X-PUBLISHED-TTL:PT1H
BEGIN:VTIMEZONE
TZID:Europe/Warsaw
BEGIN:DAYLIGHT
TZOFFSETFROM:+0100
TZOFFSETTO:+0200
TZNAME:CEST
DTSTART:20240331T010000
END:DAYLIGHT
BEGIN:STANDARD
TZOFFSETFROM:+0200
TZOFFSETTO:+0100
TZNAME:CET
DTSTART:20241027T010000
END:STANDARD
BEGIN:DAYLIGHT
TZOFFSETFROM:+0100
TZOFFSETTO:+0200
TZNAME:CEST
DTSTART:20250330T010000
END:DAYLIGHT
BEGIN:STANDARD
TZOFFSETFROM:+0200
TZOFFSETTO:+0100
TZNAME:CET
DTSTART:20251026T010000
END:STANDARD
BEGIN:DAYLIGHT
TZOFFSETFROM:+0100
TZOFFSETTO:+0200
TZNAME:CEST
DTSTART:20260329T010000
END:DAYLIGHT
BEGIN:STANDARD
TZOFFSETFROM:+0200
TZOFFSETTO:+0100
TZNAME:CET
DTSTART:20261025T010000
END:STANDARD
END:VTIMEZONE
BEGIN:VEVENT
DTSTART;TZID=Europe/Warsaw:20250724T100000
DTEND;TZID=Europe/Warsaw:20250727T180000
DTSTAMP:20260423T152511
CREATED:20250720T221704Z
LAST-MODIFIED:20250720T232610Z
UID:2124-1753351200-1753639200@hubertoreziak.pl
SUMMARY:Diagnoza ADHD osób dorosłych - warsztat dla specjalistów
DESCRIPTION:O warsztacie\n\n\n\n🧠 Diagnoza ADHD u osób dorosłych – warsztat praktyczny dla psychologów\, psychiatrów i innych specjalistów. \n\n\n\nCharakter warsztatowy – maksymalnie 8 uczestników \n\n\n\nSzkolenie w formie intensywnego warsztatu poświęcone diagnozie ADHD u osób dorosłych.Podczas spotkania omówiony zostanie kompletny proces diagnozy psychologicznej – od momentu zgłoszenia się osoby klienckiej\, przez kolejne etapy diagnostyczne (wywiad\, testy\, analiza)\, aż po pisanie opinii psychologicznej i omówienie jej z osobą diagnozowaną. \n\n\n\n\n\n\n\n🔧 Co otrzymasz w ramach szkolenia:\n\n\n\n\nScenariusz wywiadu diagnostycznego\n\n\n\nWzór opinii psychologicznej\n\n\n\nGotowe dokumenty diagnostyczne\n\n\n\nDostęp do innych praktycznych narzędzi pracy diagnosty ADHD\n\n\n\n\n\n\n\n\n🧩 Wymagania przed szkoleniem:\n\n\n\nKażda osoba uczestnicząca powinna mieć: \n\n\n\n\nScenariusz wywiadu DIVA-5\n\n\n\nDostęp do kryteriów diagnostycznych ADHD wg DSM-5\n\n\n\n\n\n\n\n\n💬 Forma szkolenia – platforma Discord:\n\n\n\nPlatforma Discord zapewnia: \n\n\n\n\nStały kontakt z prowadzącym – także po zakończeniu warsztatu\n\n\n\nMożliwość wymiany doświadczeń z innymi uczestnikami i uczestniczkami\n\n\n\nDostęp do zasobów edukacyjnych\n\n\n\nUdział z dowolnego miejsca i o dowolnej porze\n\n\n\n\n\n\n\n\n👥 Dla kogo jest to szkolenie?\n\n\n\n\nDla psychologów i psycholożek zajmujących się diagnozą osób dorosłych\n\n\n\nW drodze wyjątku: dla studentów i studentek 4. lub 5. roku psychologii\, którzy chcą zdobyć praktyczne przygotowanie do pracy z osobami dorosłymi\n\n\n\n\n\n\n\n\n🎓 Dodatkowe korzyści:\n\n\n\nUczestnicy i uczestniczki otrzymają zaproszenie do zamkniętych grup superwizyjnych z zakresu diagnozy ADHD u osób dorosłych – przestrzeni do wspólnej pracy i dalszego rozwoju.
URL:https://hubertoreziak.pl/szkolenie/diagnoza-adhd-osob-doroslych-warsztat-dla-specjalistow/
ORGANIZER;CN="Hubert Or%C4%99ziak":MAILTO:hubertoreziak.szkolenia@gmail.com
END:VEVENT
BEGIN:VEVENT
DTSTART;TZID=Europe/Warsaw:20250728T100000
DTEND;TZID=Europe/Warsaw:20250728T180000
DTSTAMP:20260423T152511
CREATED:20250720T235935Z
LAST-MODIFIED:20250721T000918Z
UID:2145-1753696800-1753725600@hubertoreziak.pl
SUMMARY:Diagnoza AuDHD – case studies 1
DESCRIPTION:🧠 Diagnoza AuDHD – case studies 1: warsztat praktyczny dla psychologów i psychiatrów\n\n\n\nCharakter warsztatowy – maksymalnie 8 uczestników \n\n\n\nIntensywny warsztat skupiony na omówieniu rzeczywistych przypadków diagnozy AuDHD u osób dorosłych.Wspólnie przeanalizujemy szczegółowe dane diagnostyczne (w tym cytaty z wywiadów)\, ucząc się rozpoznawać subtelne różnice i stawiać trafne hipotezy. \n\n\n\n\n\n\n\n🔧 Co zyskasz w ramach warsztatu:\n\n\n\n\nUmiejętność różnicowania objawów ADHD od innych trudności i zaburzeń\n\n\n\nPogłębienie wiedzy na temat różnicowania kryteriów ADHD między sobą\n\n\n\nĆwiczenie stawiania dodatkowych hipotez diagnostycznych na podstawie danych zebranych w trakcie procesu\n\n\n\nWgląd w praktyczne aspekty diagnozy z perspektywy przypadków rzeczywistych osób dorosłych\n\n\n\nPrzestrzeń do wymiany doświadczeń w kameralnej grupie\n\n\n\n\n📌 Uwaga: warsztat ma bardzo intensywny charakter i jest męczący – przygotuj się na dużą dawkę pracy.🎓 Pierwszeństwo mają osoby\, które ukończyły wcześniejsze szkolenia i warsztaty. \n\n\n\n\n\n\n\n💬 Forma szkolenia – platforma Discord:\n\n\n\n\nSzkolenie odbywa się online na dedykowanym kanale na Discordzie\n\n\n\nUdział możliwy z dowolnego miejsca\n\n\n\nKameralna atmosfera\, kontakt z prowadzącym\, dostęp do materiałów\n\n\n\nWarsztat skupia się na 1–2 przypadkach diagnostycznych osób dorosłych\n\n\n\n\n \n\n\n\n\n\n\n\n👥 Dla kogo jest ten warsztat?\n\n\n\nDla psychologów\, psychiatrów i innych specjalistów\, którzy ukończyli wcześniejsze szkolenia z zakresu diagnozy AuDHD i chcą rozwijać swoje umiejętności poprzez pracę na konkretnych przypadkach.
URL:https://hubertoreziak.pl/szkolenie/diagnoza-audhd-case-studies-1/
ORGANIZER;CN="Hubert Or%C4%99ziak":MAILTO:hubertoreziak.szkolenia@gmail.com
END:VEVENT
END:VCALENDAR